BEGIN:VCALENDAR
VERSION:2.0
PRODID:-//Scottish Autism - ECPv6.15.17.1//NONSGML v1.0//EN
CALSCALE:GREGORIAN
METHOD:PUBLISH
X-WR-CALNAME:Scottish Autism
X-ORIGINAL-URL:https://www.scottishautism.org
X-WR-CALDESC:Events for Scottish Autism
REFRESH-INTERVAL;VALUE=DURATION:PT1H
X-Robots-Tag:noindex
X-PUBLISHED-TTL:PT1H
BEGIN:VTIMEZONE
TZID:Europe/London
BEGIN:DAYLIGHT
TZOFFSETFROM:+0000
TZOFFSETTO:+0100
TZNAME:BST
DTSTART:20240331T010000
END:DAYLIGHT
BEGIN:STANDARD
TZOFFSETFROM:+0100
TZOFFSETTO:+0000
TZNAME:GMT
DTSTART:20241027T010000
END:STANDARD
BEGIN:DAYLIGHT
TZOFFSETFROM:+0000
TZOFFSETTO:+0100
TZNAME:BST
DTSTART:20250330T010000
END:DAYLIGHT
BEGIN:STANDARD
TZOFFSETFROM:+0100
TZOFFSETTO:+0000
TZNAME:GMT
DTSTART:20251026T010000
END:STANDARD
BEGIN:DAYLIGHT
TZOFFSETFROM:+0000
TZOFFSETTO:+0100
TZNAME:BST
DTSTART:20260329T010000
END:DAYLIGHT
BEGIN:STANDARD
TZOFFSETFROM:+0100
TZOFFSETTO:+0000
TZNAME:GMT
DTSTART:20261025T010000
END:STANDARD
END:VTIMEZONE
BEGIN:VEVENT
DTSTART;TZID=Europe/London:20251215T130000
DTEND;TZID=Europe/London:20251215T160000
DTSTAMP:20260419T142409
CREATED:20251106T141249Z
LAST-MODIFIED:20251210T165938Z
UID:562-1765803600-1765814400@www.scottishautism.org
SUMMARY:Cupar Social Drop In December
DESCRIPTION:
URL:https://www.scottishautism.org/event/cupar-social-drop-dec/
LOCATION:YMCA-YWCA Cupar\, Marathon House\, 93 Bonnygate\, Cupar\, KY15 4LG\, United Kingdom
ATTACH;FMTTYPE=image/png:https://www.scottishautism.org/wp-content/uploads/2025/11/cupar_social_drop_in_-_oss_aug25_0.png
END:VEVENT
END:VCALENDAR