BEGIN:VCALENDAR
VERSION:2.0
PRODID:-//Scottish Autism - ECPv6.15.17.1//NONSGML v1.0//EN
CALSCALE:GREGORIAN
METHOD:PUBLISH
X-WR-CALNAME:Scottish Autism
X-ORIGINAL-URL:https://www.scottishautism.org
X-WR-CALDESC:Events for Scottish Autism
REFRESH-INTERVAL;VALUE=DURATION:PT1H
X-Robots-Tag:noindex
X-PUBLISHED-TTL:PT1H
BEGIN:VTIMEZONE
TZID:Europe/London
BEGIN:DAYLIGHT
TZOFFSETFROM:+0000
TZOFFSETTO:+0100
TZNAME:BST
DTSTART:20250330T010000
END:DAYLIGHT
BEGIN:STANDARD
TZOFFSETFROM:+0100
TZOFFSETTO:+0000
TZNAME:GMT
DTSTART:20251026T010000
END:STANDARD
BEGIN:DAYLIGHT
TZOFFSETFROM:+0000
TZOFFSETTO:+0100
TZNAME:BST
DTSTART:20260329T010000
END:DAYLIGHT
BEGIN:STANDARD
TZOFFSETFROM:+0100
TZOFFSETTO:+0000
TZNAME:GMT
DTSTART:20261025T010000
END:STANDARD
BEGIN:DAYLIGHT
TZOFFSETFROM:+0000
TZOFFSETTO:+0100
TZNAME:BST
DTSTART:20270328T010000
END:DAYLIGHT
BEGIN:STANDARD
TZOFFSETFROM:+0100
TZOFFSETTO:+0000
TZNAME:GMT
DTSTART:20271031T010000
END:STANDARD
END:VTIMEZONE
BEGIN:VEVENT
DTSTART;TZID=Europe/London:20260927T000000
DTEND;TZID=Europe/London:20260927T235959
DTSTAMP:20260420T012055
CREATED:20260206T155506Z
LAST-MODIFIED:20260206T155507Z
UID:3357-1790467200-1790553599@www.scottishautism.org
SUMMARY:Loch Ness Marathon
DESCRIPTION:
URL:https://www.scottishautism.org/event/lochness-26/
LOCATION:Loch Ness
CATEGORIES:Fundraising
ATTACH;FMTTYPE=image/jpeg:https://www.scottishautism.org/wp-content/uploads/2026/02/Jai2-e1770389671510.jpg
END:VEVENT
BEGIN:VEVENT
DTSTART;TZID=Europe/London:20261003T000000
DTEND;TZID=Europe/London:20261004T235959
DTSTAMP:20260420T012055
CREATED:20260206T160445Z
LAST-MODIFIED:20260206T160445Z
UID:3363-1790985600-1791158399@www.scottishautism.org
SUMMARY:Great Scottish Run
DESCRIPTION:
URL:https://www.scottishautism.org/event/great-scottish-run26/
LOCATION:Glasgow
ATTACH;FMTTYPE=image/jpeg:https://www.scottishautism.org/wp-content/uploads/2026/02/Wallace-and-Acorn-e1770393447950.jpg
END:VEVENT
BEGIN:VEVENT
DTSTART;TZID=Europe/London:20261004T000000
DTEND;TZID=Europe/London:20261004T235959
DTSTAMP:20260420T012055
CREATED:20260204T153014Z
LAST-MODIFIED:20260204T153015Z
UID:3276-1791072000-1791158399@www.scottishautism.org
SUMMARY:Forth Rail Abseil
DESCRIPTION:
URL:https://www.scottishautism.org/event/forth-rail-abseil/
LOCATION:Forth Rail Bridge\, Queensferry\, South Queensferry
CATEGORIES:Fundraising
ATTACH;FMTTYPE=image/jpeg:https://www.scottishautism.org/wp-content/uploads/2025/12/thumbnail_AC2_4300-scaled-e1765289447796.jpg
END:VEVENT
END:VCALENDAR