BEGIN:VCALENDAR
VERSION:2.0
PRODID:-//Scottish Autism - ECPv6.15.17.1//NONSGML v1.0//EN
CALSCALE:GREGORIAN
METHOD:PUBLISH
X-WR-CALNAME:Scottish Autism
X-ORIGINAL-URL:https://www.scottishautism.org
X-WR-CALDESC:Events for Scottish Autism
REFRESH-INTERVAL;VALUE=DURATION:PT1H
X-Robots-Tag:noindex
X-PUBLISHED-TTL:PT1H
BEGIN:VTIMEZONE
TZID:Europe/London
BEGIN:DAYLIGHT
TZOFFSETFROM:+0000
TZOFFSETTO:+0100
TZNAME:BST
DTSTART:20250330T010000
END:DAYLIGHT
BEGIN:STANDARD
TZOFFSETFROM:+0100
TZOFFSETTO:+0000
TZNAME:GMT
DTSTART:20251026T010000
END:STANDARD
BEGIN:DAYLIGHT
TZOFFSETFROM:+0000
TZOFFSETTO:+0100
TZNAME:BST
DTSTART:20260329T010000
END:DAYLIGHT
BEGIN:STANDARD
TZOFFSETFROM:+0100
TZOFFSETTO:+0000
TZNAME:GMT
DTSTART:20261025T010000
END:STANDARD
BEGIN:DAYLIGHT
TZOFFSETFROM:+0000
TZOFFSETTO:+0100
TZNAME:BST
DTSTART:20270328T010000
END:DAYLIGHT
BEGIN:STANDARD
TZOFFSETFROM:+0100
TZOFFSETTO:+0000
TZNAME:GMT
DTSTART:20271031T010000
END:STANDARD
END:VTIMEZONE
BEGIN:VEVENT
DTSTART;TZID=Europe/London:20260816T000000
DTEND;TZID=Europe/London:20260816T235959
DTSTAMP:20260419T162044
CREATED:20260204T155429Z
LAST-MODIFIED:20260204T155430Z
UID:3285-1786838400-1786924799@www.scottishautism.org
SUMMARY:Strathclyde Zipslide
DESCRIPTION:
URL:https://www.scottishautism.org/event/strathclyde-zipslide/
LOCATION:Strathclyde Country Park\, Motherwell\, ML1 3ED
CATEGORIES:Fundraising
ATTACH;FMTTYPE=image/jpeg:https://www.scottishautism.org/wp-content/uploads/2026/02/Zipslide.jpg
END:VEVENT
BEGIN:VEVENT
DTSTART;TZID=Europe/London:20260816T000000
DTEND;TZID=Europe/London:20260816T235959
DTSTAMP:20260419T162044
CREATED:20260206T150202Z
LAST-MODIFIED:20260206T150203Z
UID:3334-1786838400-1786924799@www.scottishautism.org
SUMMARY:Scottish Half Marathon
DESCRIPTION:
URL:https://www.scottishautism.org/event/scottish-half-marathon-26/
LOCATION:East Lothian
CATEGORIES:Fundraising
ATTACH;FMTTYPE=image/jpeg:https://www.scottishautism.org/wp-content/uploads/2026/02/Jai2-e1770389671510.jpg
END:VEVENT
BEGIN:VEVENT
DTSTART;TZID=Europe/London:20260816T080000
DTEND;TZID=Europe/London:20260816T170000
DTSTAMP:20260419T162044
CREATED:20251217T171614Z
LAST-MODIFIED:20251217T171829Z
UID:2730-1786867200-1786899600@www.scottishautism.org
SUMMARY:Kiltwalk Dundee
DESCRIPTION:
URL:https://www.scottishautism.org/event/kiltwalk-dundee26/
CATEGORIES:Fundraising
ATTACH;FMTTYPE=image/jpeg:https://www.scottishautism.org/wp-content/uploads/2025/12/WhatsApp-Image-2025-08-18-at-10.55.35_06e0d210-e1765424513965.jpg
END:VEVENT
BEGIN:VEVENT
DTSTART;TZID=Europe/London:20260828T080000
DTEND;TZID=Europe/London:20260828T170000
DTSTAMP:20260419T162044
CREATED:20260210T165213Z
LAST-MODIFIED:20260211T073156Z
UID:3380-1787904000-1787936400@www.scottishautism.org
SUMMARY:Scottish Autism Golf Day
DESCRIPTION:
URL:https://www.scottishautism.org/event/golf-day26/
LOCATION:Craigielaw Golf Club\, Craigielaw\,\, Longniddry\, EH32 0PY
CATEGORIES:Fundraising
ATTACH;FMTTYPE=image/jpeg:https://www.scottishautism.org/wp-content/uploads/2026/02/DSC_1068-1.jpg
END:VEVENT
END:VCALENDAR